BEGIN:VCALENDAR
VERSION:2.0
PRODID:-//Santiago Expo LUG - ECPv6.15.11//NONSGML v1.0//EN
CALSCALE:GREGORIAN
METHOD:PUBLISH
X-WR-CALNAME:Santiago Expo LUG
X-ORIGINAL-URL:https://selug.cl
X-WR-CALDESC:Eventos para Santiago Expo LUG
REFRESH-INTERVAL;VALUE=DURATION:PT1H
X-Robots-Tag:noindex
X-PUBLISHED-TTL:PT1H
BEGIN:VTIMEZONE
TZID:America/Halifax
BEGIN:DAYLIGHT
TZOFFSETFROM:-0400
TZOFFSETTO:-0300
TZNAME:ADT
DTSTART:20230312T060000
END:DAYLIGHT
BEGIN:STANDARD
TZOFFSETFROM:-0300
TZOFFSETTO:-0400
TZNAME:AST
DTSTART:20231105T050000
END:STANDARD
BEGIN:DAYLIGHT
TZOFFSETFROM:-0400
TZOFFSETTO:-0300
TZNAME:ADT
DTSTART:20240310T060000
END:DAYLIGHT
BEGIN:STANDARD
TZOFFSETFROM:-0300
TZOFFSETTO:-0400
TZNAME:AST
DTSTART:20241103T050000
END:STANDARD
BEGIN:DAYLIGHT
TZOFFSETFROM:-0400
TZOFFSETTO:-0300
TZNAME:ADT
DTSTART:20250309T060000
END:DAYLIGHT
BEGIN:STANDARD
TZOFFSETFROM:-0300
TZOFFSETTO:-0400
TZNAME:AST
DTSTART:20251102T050000
END:STANDARD
END:VTIMEZONE
BEGIN:VEVENT
DTSTART;TZID=America/Halifax:20240503T100000
DTEND;TZID=America/Halifax:20240504T200000
DTSTAMP:20260422T184554
CREATED:20240424T085240Z
LAST-MODIFIED:20240425T032241Z
UID:528-1714730400-1714852800@selug.cl
SUMMARY:May The 4th be with Selug 2024
DESCRIPTION:¡Únete a nosotros los días 3 y 4 de mayo para una exhibición especial de LEGO® en honor al Día de Star Wars! Explora una impresionante colección de creaciones inspiradas en el universo de Star Wars\, desde icónicas naves espaciales hasta escenas memorables de las películas. Es un evento imperdible para todos los fanáticos de Star Wars y los amantes de LEGO®\, Ven y disfruta de la creatividad y la diversión este 3 y 4 de mayo en la tienda Lego Manquehue ¡No te lo pierdas¡
URL:https://selug.cl/eventos/may-the-4th-be-with-selug/
LOCATION:Tienda LEGO Manquehue\, Av. Manquehue Norte #1255\, Región Metropolitana\, Vitacura\, Chile
CATEGORIES:2024,Evento
ATTACH;FMTTYPE=image/jpeg:https://selug.cl/wp-content/uploads/2024/04/May_The_4th-be_with_selug.jpeg
ORGANIZER;CN="Santiago Expo LUG":MAILTO:contacto@selug.cl
END:VEVENT
END:VCALENDAR