BEGIN:VCALENDAR
VERSION:2.0
PRODID:-//Santiago Expo LUG - ECPv6.15.11//NONSGML v1.0//EN
CALSCALE:GREGORIAN
METHOD:PUBLISH
X-ORIGINAL-URL:https://selug.cl
X-WR-CALDESC:Eventos para Santiago Expo LUG
REFRESH-INTERVAL;VALUE=DURATION:PT1H
X-Robots-Tag:noindex
X-PUBLISHED-TTL:PT1H
BEGIN:VTIMEZONE
TZID:America/Halifax
BEGIN:DAYLIGHT
TZOFFSETFROM:-0400
TZOFFSETTO:-0300
TZNAME:ADT
DTSTART:20230312T060000
END:DAYLIGHT
BEGIN:STANDARD
TZOFFSETFROM:-0300
TZOFFSETTO:-0400
TZNAME:AST
DTSTART:20231105T050000
END:STANDARD
BEGIN:DAYLIGHT
TZOFFSETFROM:-0400
TZOFFSETTO:-0300
TZNAME:ADT
DTSTART:20240310T060000
END:DAYLIGHT
BEGIN:STANDARD
TZOFFSETFROM:-0300
TZOFFSETTO:-0400
TZNAME:AST
DTSTART:20241103T050000
END:STANDARD
BEGIN:DAYLIGHT
TZOFFSETFROM:-0400
TZOFFSETTO:-0300
TZNAME:ADT
DTSTART:20250309T060000
END:DAYLIGHT
BEGIN:STANDARD
TZOFFSETFROM:-0300
TZOFFSETTO:-0400
TZNAME:AST
DTSTART:20251102T050000
END:STANDARD
END:VTIMEZONE
BEGIN:VEVENT
DTSTART;TZID=America/Halifax:20240427T110000
DTEND;TZID=America/Halifax:20240428T190000
DTSTAMP:20260422T200205
CREATED:20240424T083423Z
LAST-MODIFIED:20240425T032834Z
UID:524-1714215600-1714330800@selug.cl
SUMMARY:Expo Brick Planetario Usach 2024
DESCRIPTION:Queridos amantes del lego\, tenemos el agrado de invitarles a una exposición fuera de este planeta 🌎🛸. Los esperamos este sábado 27 y domingo 28 de abril en el conocido Planetario. \nPueden acceder obteniendo un ticket para el recinto\, más información www.planetariochile.cl
URL:https://selug.cl/eventos/expo-brick-planetario-usach/
LOCATION:Planetario Chile – Universidad de Santiago de Chile\, Av. Libertador Bernardo O’Higgins #3349\, Región Metropolitana\, Estación Central\, Chile
CATEGORIES:2024,Evento
ATTACH;FMTTYPE=image/jpeg:https://selug.cl/wp-content/uploads/2024/04/Planetario.jpeg
ORGANIZER;CN="Santiago Expo LUG":MAILTO:contacto@selug.cl
END:VEVENT
END:VCALENDAR